Back to the "Multiple platform build/check report"
| Package 135/188 | Hostname | OS | Arch | BUILD | CHECK | BUILD BIN | 
plgem1.6.0Mattia PelizzolaLast Changed Date: 2006-10-03 12:16:03 -0700 Last Changed Rev: 20373  | lamb1 | Linux (SUSE 10.1) | x86_64 | OK | OK | |
| wellington | Linux (SUSE 9.2) | i686 | OK | OK | ||
| churchill | Solaris 2.9 | sparc | OK | OK | ||
| lemming | Windows Server 2003 | x86_64 | OK | OK | [ OK ] | 
| Package: plgem | 
| Version: 1.6.0 | 
| Command: D:\biocbld\bbs-1.9\R\bin\R.exe CMD INSTALL --build --library=plgem.instdir plgem_1.6.0.tar.gz | 
| RetCode: 0 | 
| Time: 8.0 seconds | 
| Status: OK | 
| PackageFile: plgem_1.6.0.zip | 
installing R.css in D:/biocbld/bbs-1.9/meat/plgem.instdir
Using auto-selected zip options 'plgem-ZIPDATA=zip'
---------- Making package plgem ------------
  adding build stamp to DESCRIPTION
  installing R files
  installing inst files
  installing data files
  installing man source files
  installing indices
  zipping data
  installing help
 >>> Building/Updating help pages for package 'plgem'
     Formats: text html latex example chm 
  LPSeset                           text    html    latex   example chm
  plgem.deg                         text    html    latex   example chm
  plgem.fit                         text    html    latex   example chm
  plgem.obsStn                      text    html    latex   example chm
  run.plgem                         text    html    latex   example chm
Microsoft HTML Help Compiler 4.74.8702
Compiling d:\biocbld\bbs-1.9\meat\R.INSTALL\plgem\chm\plgem.chm
Compile time: 0 minutes, 0 seconds
6	Topics
25	Local links
5	Internet links
1	Graphic
Created d:\biocbld\bbs-1.9\meat\R.INSTALL\plgem\chm\plgem.chm, 24,980 bytes
Compression decreased file by 1,588 bytes.
  adding MD5 sums
packaged installation of package 'plgem' as plgem_1.6.0.zip
* DONE (plgem)