Back to the "Multiple platform build/check report"
| Package 133/188 | Hostname | OS | Arch | BUILD | CHECK | BUILD BIN | 
pickgene1.6.0Brian S. YandellLast Changed Date: 2006-10-03 12:16:03 -0700 Last Changed Rev: 20373  | lamb1 | Linux (SUSE 10.1) | x86_64 | OK | OK | |
| wellington | Linux (SUSE 9.2) | i686 | OK | OK | ||
| churchill | Solaris 2.9 | sparc | OK | OK | ||
| lemming | Windows Server 2003 | x86_64 | OK | OK | [ OK ] | 
| Package: pickgene | 
| Version: 1.6.0 | 
| Command: D:\biocbld\bbs-1.9\R\bin\R.exe CMD INSTALL --build --library=pickgene.instdir pickgene_1.6.0.tar.gz | 
| RetCode: 0 | 
| Time: 9.0 seconds | 
| Status: OK | 
| PackageFile: pickgene_1.6.0.zip | 
installing R.css in D:/biocbld/bbs-1.9/meat/pickgene.instdir
Using auto-selected zip options ''
---------- Making package pickgene ------------
  adding build stamp to DESCRIPTION
  installing R files
  installing inst files
  installing man source files
  installing indices
  installing help
 >>> Building/Updating help pages for package 'pickgene'
     Formats: text html latex example chm 
  Simulation.pickgene               text    html    latex   example chm
  em.ggb                            text    html    latex   example chm
  model.pickgene                    text    html    latex   example chm
  oddsplot                          text    html    latex   example chm
  pickgene-internal                 text    html    latex           chm
  pickgene                          text    html    latex   example chm
  robustscale                       text    html    latex   example chm
Microsoft HTML Help Compiler 4.74.8702
Compiling d:\biocbld\bbs-1.9\meat\R.INSTALL\pickgene\chm\pickgene.chm
Compile time: 0 minutes, 0 seconds
8	Topics
16	Local links
0	Internet links
1	Graphic
Created d:\biocbld\bbs-1.9\meat\R.INSTALL\pickgene\chm\pickgene.chm, 30,549 bytes
Compression decreased file by 11,100 bytes.
  preparing package pickgene for lazy loading
Loading required package: MASS
  adding MD5 sums
packaged installation of package 'pickgene' as pickgene_1.6.0.zip
* DONE (pickgene)