Back to the "Multiple platform build/check report"
| Package 130/188 | Hostname | OS | Arch | BUILD | CHECK | BUILD BIN |
pcot21.2.0Sarah SongLast Changed Date: 2006-10-03 12:16:03 -0700 Last Changed Rev: 20373 | lamb1 | Linux (SUSE 10.1) | x86_64 | OK | OK | |
| wellington | Linux (SUSE 9.2) | i686 | OK | OK | ||
| churchill | Solaris 2.9 | sparc | OK | OK | ||
| lemming | Windows Server 2003 | x86_64 | [ OK ] | OK | OK |
| Package: pcot2 |
| Version: 1.2.0 |
| Command: D:\biocbld\bbs-1.9\R\bin\R.exe CMD build pcot2 |
| RetCode: 0 |
| Time: 32.5 seconds |
| Status: OK |
| PackageFile: pcot2_1.2.0.tar.gz |
* checking for file 'pcot2/DESCRIPTION' ... OK
* preparing 'pcot2':
* checking DESCRIPTION meta-information ... OK
* installing the package to re-build vignettes
installing R.css in D:/biocbld/bbs-1.9/tmpdir/Rinst604837808
---------- Making package pcot2 ------------
adding build stamp to DESCRIPTION
installing R files
installing inst files
installing man source files
installing indices
installing help
>>> Building/Updating help pages for package 'pcot2'
Formats: text html latex example chm
aveProbe text html latex example chm
corplot text html latex example chm
corplot2 text html latex example chm
getImat text html latex example chm
pcot2-internal text html latex chm
pcot2 text html latex example chm
Microsoft HTML Help Compiler 4.74.8702
Compiling d:\biocbld\bbs-1.9\meat\pcot2\chm\pcot2.chm
Compile time: 0 minutes, 0 seconds
7 Topics
27 Local links
0 Internet links
1 Graphic
Created d:\biocbld\bbs-1.9\meat\pcot2\chm\pcot2.chm, 26,002 bytes
Compression decreased file by 4,159 bytes.
adding MD5 sums
* DONE (pcot2)
* creating vignettes ... OK
* removing junk files
* checking for LF line-endings in source files
* checking for empty or unneeded directories
* building 'pcot2_1.2.0.tar.gz'