Back to the "Multiple platform build/check report"
| Package 127/188 | Hostname | OS | Arch | BUILD | CHECK | BUILD BIN |
panp1.4.0Peter WarrenLast Changed Date: 2006-10-03 12:16:03 -0700 Last Changed Rev: 20373 | lamb1 | Linux (SUSE 10.1) | x86_64 | OK | OK | |
| wellington | Linux (SUSE 9.2) | i686 | OK | OK | ||
| churchill | Solaris 2.9 | sparc | OK | OK | ||
| lemming | Windows Server 2003 | x86_64 | [ OK ] | OK | OK |
| Package: panp |
| Version: 1.4.0 |
| Command: D:\biocbld\bbs-1.9\R\bin\R.exe CMD build panp |
| RetCode: 0 |
| Time: 28.5 seconds |
| Status: OK |
| PackageFile: panp_1.4.0.tar.gz |
* checking for file 'panp/DESCRIPTION' ... OK
* preparing 'panp':
* checking DESCRIPTION meta-information ... OK
* installing the package to re-build vignettes
installing R.css in D:/biocbld/bbs-1.9/tmpdir/Rinst178454687
---------- Making package panp ------------
adding build stamp to DESCRIPTION
installing R files
installing inst files
installing data files
installing man source files
installing indices
not zipping data
installing help
>>> Building/Updating help pages for package 'panp'
Formats: text html latex example chm
NSMPnames.hgu133a text html latex
NSMPnames.hgu133plus2 text html latex
gcrma.exprSet text html latex
pa.calls text html latex example
test133a text html latex
adding MD5 sums
* DONE (panp)
* creating vignettes ... OK
* removing junk files
* excluding invalid files from 'panp'
Subdirectory 'man' contains invalid file names:
README
* checking for LF line-endings in source files
* checking for empty or unneeded directories
* building 'panp_1.4.0.tar.gz'