Back to the "Multiple platform build/check report"
| Package 87/188 | Hostname | OS | Arch | BUILD | CHECK | BUILD BIN | 
impute1.6.0Balasubramanian NarasimhanLast Changed Date: 2006-10-03 12:16:03 -0700 Last Changed Rev: 20373  | lamb1 | Linux (SUSE 10.1) | x86_64 | OK | ERROR | |
| wellington | Linux (SUSE 9.2) | i686 | OK | OK | ||
| churchill | Solaris 2.9 | sparc | OK | ERROR | ||
| lemming | Windows Server 2003 | x86_64 | [ OK ] | OK | OK | 
| Package: impute | 
| Version: 1.6.0 | 
| Command: D:\biocbld\bbs-1.9\R\bin\R.exe CMD build impute | 
| RetCode: 0 | 
| Time: 4.2 seconds | 
| Status: OK | 
| PackageFile: impute_1.6.0.tar.gz | 
* checking for file 'impute/DESCRIPTION' ... OK * preparing 'impute': * checking DESCRIPTION meta-information ... OK * cleaning src * checking whether 'INDEX' is up-to-date ... NO * use '--force' to overwrite the existing 'INDEX' * removing junk files * checking for LF line-endings in source files * checking for empty or unneeded directories * building 'impute_1.6.0.tar.gz'