Back to the "Multiple platform build/check report"
| Package 60/188 | Hostname | OS | Arch | BUILD | CHECK | BUILD BIN | 
genefilter1.12.0Biocore TeamLast Changed Date: 2006-10-03 12:16:03 -0700 Last Changed Rev: 20373  | lamb1 | Linux (SUSE 10.1) | x86_64 | OK | [ OK ] | |
| wellington | Linux (SUSE 9.2) | i686 | OK | OK | ||
| churchill | Solaris 2.9 | sparc | OK | OK | ||
| lemming | Windows Server 2003 | x86_64 | OK | OK | OK | 
| Package: genefilter | 
| Version: 1.12.0 | 
| Command: /home/biocbuild/bbs-1.9/R/bin/R CMD check genefilter_1.12.0.tar.gz | 
| RetCode: 0 | 
| Time: 45.5 seconds | 
| Status: OK | 
| CheckDir: genefilter.Rcheck | 
| Warnings: 0 | 
* checking for working latex ... OK * using log directory '/home/biocbuild/bbs-1.9/meat/genefilter.Rcheck' * using R version 2.4.1 (2006-12-18) * checking for file 'genefilter/DESCRIPTION' ... OK * this is package 'genefilter' version '1.12.0' * checking package dependencies ... OK * checking if this is a source package ... OK * checking whether package 'genefilter' can be installed ... OK * checking package directory ... OK * checking for portable file names ... OK * checking for sufficient/correct file permissions ... OK * checking DESCRIPTION meta-information ... OK * checking top-level files ... OK * checking index information ... OK * checking package subdirectories ... OK * checking R files for syntax errors ... OK * checking R files for non-ASCII characters ... OK * checking whether the package can be loaded ... OK * checking whether the package can be loaded with stated dependencies ... OK * checking whether the name space can be loaded with stated dependencies ... OK * checking S3 generic/method consistency ... OK * checking replacement functions ... OK * checking foreign function calls ... OK * checking R code for possible problems ... OK * checking Rd files ... OK * checking Rd cross-references ... OK * checking for missing documentation entries ... OK * checking for code/documentation mismatches ... OK * checking Rd \usage sections ... OK * checking for CRLF line endings in C/C++/Fortran sources/headers ... OK * checking for portable use of $BLAS_LIBS ... OK * creating genefilter-Ex.R ... OK * checking examples ... OK * checking package vignettes in 'inst/doc' ... OK * creating genefilter-manual.tex ... OK * checking genefilter-manual.tex ... OK
genefilter.Rcheck/00install.out:
* Installing *source* package 'genefilter' ...
** libs
gcc -std=gnu99 -I/home/biocbuild/bbs-1.9/R/include -I/home/biocbuild/bbs-1.9/R/include  -I/usr/local/include    -fpic  -g -O2 -Wall -c genedist.c -o genedist.o
genedist.c: In function 'mm_dist_binary':
genedist.c:233: warning: unused variable 'w2'
genedist.c:233: warning: unused variable 'w1'
g++ -I/home/biocbuild/bbs-1.9/R/include -I/home/biocbuild/bbs-1.9/R/include  -I/usr/local/include    -fpic  -g -O2 -Wall -c half_range_mode.cpp -o half_range_mode.o
half_range_mode.cpp: In function 'double half_range_mode(double*, double*, double, int)':
half_range_mode.cpp:55: warning: comparison between signed and unsigned integer expressions
half_range_mode.cpp:68: warning: comparison between signed and unsigned integer expressions
half_range_mode.cpp:76: warning: comparison between signed and unsigned integer expressions
half_range_mode.cpp:14: warning: 'new_end' may be used uninitialized in this function
gcc -std=gnu99 -I/home/biocbuild/bbs-1.9/R/include -I/home/biocbuild/bbs-1.9/R/include  -I/usr/local/include    -fpic  -g -O2 -Wall -c init.c -o init.o
gcc -std=gnu99 -I/home/biocbuild/bbs-1.9/R/include -I/home/biocbuild/bbs-1.9/R/include  -I/usr/local/include    -fpic  -g -O2 -Wall -c rowPAUCs.c -o rowPAUCs.o
gcc -std=gnu99 -I/home/biocbuild/bbs-1.9/R/include -I/home/biocbuild/bbs-1.9/R/include  -I/usr/local/include    -fpic  -g -O2 -Wall -c rowttests.c -o rowttests.o
gfortran   -fpic  -g -O2 -Wall -c ttest.f -o ttest.o
g++ -shared -L/usr/local/lib64 -o genefilter.so genedist.o half_range_mode.o init.o rowPAUCs.o rowttests.o ttest.o  -lgfortran -lm -lgcc_s 
** R
** data
**  moving datasets to lazyload DB
** inst
** save image
Loading required package: Biobase
Loading required package: tools
Welcome to Bioconductor
    Vignettes contain introductory material. To view, type
    'openVignette()' or start with 'help(Biobase)'. For details
    on reading vignettes, see the openVignette help page.
Loading required package: survival
Loading required package: splines
** help
 >>> Building/Updating help pages for package 'genefilter'
     Formats: text html latex example 
  Anova                             text    html    latex   example
  allNA                             text    html    latex   example
  coxfilter                         text    html    latex   example
  cv                                text    html    latex   example
  eSetFilter                        text    html    latex   example
  filterfun                         text    html    latex   example
  findLargest                       text    html    latex   example
  gapFilter                         text    html    latex   example
  genefilter                        text    html    latex   example
  genefinder                        text    html    latex   example
  genescale                         text    html    latex   example
  half.range.mode                   text    html    latex   example
  kOverA                            text    html    latex   example
  maxA                              text    html    latex   example
  pOverA                            text    html    latex   example
  rowFtests                         text    html    latex   example
  rowSds                            text    html    latex   example
  rowpAUCs                          text    html    latex   example
  shorth                            text    html    latex   example
  tdata                             text    html    latex   example
  ttest                             text    html    latex   example
** building package indices ...
* DONE (genefilter)