Back to the "Multiple platform build/check report"
| Package 11/188 | Hostname | OS | Arch | BUILD | CHECK | BUILD BIN | 
affypdnn1.8.1LaurentLast Changed Date: 2006-12-02 00:51:55 -0800 Last Changed Rev: 21332  | lamb1 | Linux (SUSE 10.1) | x86_64 | OK | OK | |
| wellington | Linux (SUSE 9.2) | i686 | [ OK ] | OK | ||
| churchill | Solaris 2.9 | sparc | OK | OK | ||
| lemming | Windows Server 2003 | x86_64 | OK | OK | OK | 
| Package: affypdnn | 
| Version: 1.8.1 | 
| Command: /loc/biocbuild/bbs-1.9/R/bin/R CMD build affypdnn | 
| RetCode: 0 | 
| Time: 3.8 seconds | 
| Status: OK | 
| PackageFile: affypdnn_1.8.1.tar.gz | 
* checking for file 'affypdnn/DESCRIPTION' ... OK * preparing 'affypdnn': * checking DESCRIPTION meta-information ... OK * checking whether 'INDEX' is up-to-date ... OK * removing junk files * checking for LF line-endings in source files * checking for empty or unneeded directories * building 'affypdnn_1.8.1.tar.gz'