Back to the "Multiple platform build/check report"
| Package 8/188 | Hostname | OS | Arch | BUILD | CHECK | BUILD BIN | 
affydata1.10.0LaurentLast Changed Date: 2006-10-03 12:16:03 -0700 Last Changed Rev: 20373  | lamb1 | Linux (SUSE 10.1) | x86_64 | [ OK ] | OK | |
| wellington | Linux (SUSE 9.2) | i686 | OK | OK | ||
| churchill | Solaris 2.9 | sparc | OK | OK | ||
| lemming | Windows Server 2003 | x86_64 | OK | OK | OK | 
| Package: affydata | 
| Version: 1.10.0 | 
| Command: /home/biocbuild/bbs-1.9/R/bin/R CMD build affydata | 
| RetCode: 0 | 
| Time: 26.6 seconds | 
| Status: OK | 
| PackageFile: affydata_1.10.0.tar.gz | 
* checking for file 'affydata/DESCRIPTION' ... OK
* preparing 'affydata':
* checking DESCRIPTION meta-information ... OK
* installing the package to re-build vignettes
* Installing *source* package 'affydata' ...
** R
** data
** inst
** help
 >>> Building/Updating help pages for package 'affydata'
     Formats: text html latex example 
  Dilution                          text    html    latex
** building package indices ...
* DONE (affydata)
* creating vignettes ... OK
* removing junk files
* checking for LF line-endings in source files
* checking for empty or unneeded directories
* building 'affydata_1.10.0.tar.gz'