Back to the "Multiple platform build/check report"
| Package 13/188 | Hostname | OS | Arch | BUILD | CHECK | BUILD BIN | 
affyQCReport1.12.0Craig ParmanLast Changed Date: 2006-10-03 12:16:03 -0700 Last Changed Rev: 20373  | lamb1 | Linux (SUSE 10.1) | x86_64 | OK | OK | |
| wellington | Linux (SUSE 9.2) | i686 | OK | OK | ||
| churchill | Solaris 2.9 | sparc | OK | OK | ||
| lemming | Windows Server 2003 | x86_64 | OK | OK | [ OK ] | 
| Package: affyQCReport | 
| Version: 1.12.0 | 
| Command: D:\biocbld\bbs-1.9\R\bin\R.exe CMD INSTALL --build --library=affyQCReport.instdir affyQCReport_1.12.0.tar.gz | 
| RetCode: 0 | 
| Time: 7.0 seconds | 
| Status: OK | 
| PackageFile: affyQCReport_1.12.0.zip | 
installing R.css in D:/biocbld/bbs-1.9/meat/affyQCReport.instdir
Using auto-selected zip options ''
---------- Making package affyQCReport ------------
  adding build stamp to DESCRIPTION
  installing R files
  installing inst files
  installing man source files
  installing indices
  installing help
 >>> Building/Updating help pages for package 'affyQCReport'
     Formats: text html latex example chm 
  QCReport                          text    html    latex   example chm
  borderQC1                         text    html    latex   example chm
  borderQC2                         text    html    latex   example chm
  correlationPlot                   text    html    latex   example chm
  signalDist                        text    html    latex   example chm
  titlePage                         text    html    latex   example chm
Microsoft HTML Help Compiler 4.74.8702
Compiling d:\biocbld\bbs-1.9\meat\R.INSTALL\affyQCReport\chm\affyQCReport.chm
Compile time: 0 minutes, 0 seconds
7	Topics
15	Local links
0	Internet links
1	Graphic
Created d:\biocbld\bbs-1.9\meat\R.INSTALL\affyQCReport\chm\affyQCReport.chm, 19,105 bytes
Compression decreased file by 3,340 bytes.
  adding MD5 sums
packaged installation of package 'affyQCReport' as affyQCReport_1.12.0.zip
* DONE (affyQCReport)