Back to the "Multiple platform build/check report"
| Package 149/188 | Hostname | OS | Arch | BUILD | CHECK | BUILD BIN | 
Resourcerer1.8.0Jianhua ZhangLast Changed Date: 2006-10-03 12:16:03 -0700 Last Changed Rev: 20373  | lamb1 | Linux (SUSE 10.1) | x86_64 | OK | OK | |
| wellington | Linux (SUSE 9.2) | i686 | OK | OK | ||
| churchill | Solaris 2.9 | sparc | [ ERROR ] | skipped | ||
| lemming | Windows Server 2003 | x86_64 | OK | OK | OK | 
| Package: Resourcerer | 
| Version: 1.8.0 | 
| Command: /loc/biocbuild/bbs-1.9/R/bin/R CMD build Resourcerer | 
| RetCode: 1 | 
| Time: 4.9 seconds | 
| Status: ERROR | 
| PackageFile: None | 
* checking for file 'Resourcerer/DESCRIPTION' ... OK * preparing 'Resourcerer': * checking DESCRIPTION meta-information ... OK * installing the package to re-build vignettes * Installing *source* package 'Resourcerer' ... ** R ** inst ** preparing package for lazy loading Error: package 'AnnBuilder' required by 'Resourcerer' could not be found Execution halted ERROR: lazy loading failed for package 'Resourcerer' ** Removing '/tmp/Rinst2318077352/Resourcerer' ERROR Installation failed. Removing '/tmp/Rinst2318077352'