Back to the "Multiple platform build/check report"
| Package 154/188 | Hostname | OS | Arch | BUILD | CHECK | BUILD BIN | 
ROC1.8.0Vince CareyLast Changed Date: 2006-10-03 12:16:03 -0700 Last Changed Rev: 20373  | lamb1 | Linux (SUSE 10.1) | x86_64 | OK | OK | |
| wellington | Linux (SUSE 9.2) | i686 | OK | OK | ||
| churchill | Solaris 2.9 | sparc | [ OK ] | OK | ||
| lemming | Windows Server 2003 | x86_64 | OK | OK | OK | 
| Package: ROC | 
| Version: 1.8.0 | 
| Command: /loc/biocbuild/bbs-1.9/R/bin/R CMD build ROC | 
| RetCode: 0 | 
| Time: 22.5 seconds | 
| Status: OK | 
| PackageFile: ROC_1.8.0.tar.gz | 
* checking for file 'ROC/DESCRIPTION' ... OK
* preparing 'ROC':
* checking DESCRIPTION meta-information ... OK
* cleaning src
* installing the package to re-build vignettes
* Installing *source* package 'ROC' ...
** libs
g++ -I/loc/biocbuild/bbs-1.9/R/include -I/loc/biocbuild/bbs-1.9/R/include  -I/usr/local/include    -fPIC  -g -O2 -Wall -c ROC.cc -o ROC.o
g++ -G -L/usr/local/lib -o ROC.so ROC.o   
** R
** inst
** save image
** help
 >>> Building/Updating help pages for package 'ROC'
     Formats: text html latex example 
  AUC                               text    html    latex   example
  plot-methods                      text    html    latex   example
  rocc-class                        text    html    latex   example
  rocdemo.sca                       text    html    latex   example
  trapezint                         text    html    latex   example
** building package indices ...
* DONE (ROC)
* creating vignettes ... OK
* cleaning src
* removing junk files
* checking for LF line-endings in source files
* checking for empty or unneeded directories
* building 'ROC_1.8.0.tar.gz'