Back to the "Multiple platform build/check report"
| Package 122/188 | Hostname | OS | Arch | BUILD | CHECK | BUILD BIN | 
OLINgui1.8.0Matthias FutschikLast Changed Date: 2006-10-03 12:16:03 -0700 Last Changed Rev: 20373  | lamb1 | Linux (SUSE 10.1) | x86_64 | OK | OK | |
| wellington | Linux (SUSE 9.2) | i686 | OK | OK | ||
| churchill | Solaris 2.9 | sparc | OK | OK | ||
| lemming | Windows Server 2003 | x86_64 | OK | [ OK ] | OK | 
| Package: OLINgui | 
| Version: 1.8.0 | 
| Command: D:\biocbld\bbs-1.9\R\bin\R.exe CMD check OLINgui_1.8.0.tar.gz | 
| RetCode: 0 | 
| Time: 62.5 seconds | 
| Status: OK | 
| CheckDir: OLINgui.Rcheck | 
| Warnings: 0 | 
* checking for working latex ... OK * using log directory 'D:/biocbld/bbs-1.9/meat/OLINgui.Rcheck' * using R version 2.4.1 (2006-12-18) * checking for file 'OLINgui/DESCRIPTION' ... OK * this is package 'OLINgui' version '1.8.0' * checking package dependencies ... OK * checking if this is a source package ... OK * checking whether package 'OLINgui' can be installed ... OK * checking package directory ... OK * checking for portable file names ... OK * checking DESCRIPTION meta-information ... OK * checking top-level files ... OK * checking index information ... OK * checking package subdirectories ... OK * checking R files for syntax errors ... OK * checking R files for non-ASCII characters ... OK * checking whether the package can be loaded ... OK * checking whether the package can be loaded with stated dependencies ... OK * checking S3 generic/method consistency ... OK * checking replacement functions ... OK * checking foreign function calls ... OK * checking R code for possible problems ... OK * checking Rd files ... OK * checking Rd cross-references ... OK * checking for missing documentation entries ... OK * checking for code/documentation mismatches ... OK * checking Rd \usage sections ... OK * creating OLINgui-Ex.R ... OK * checking examples ... OK * checking package vignettes in 'inst/doc' ... OK * creating OLINgui-manual.tex ... OK * checking OLINgui-manual.tex ... OK
OLINgui.Rcheck/00install.out:
installing R.css in D:/biocbld/bbs-1.9/meat/OLINgui.Rcheck
---------- Making package OLINgui ------------
  adding build stamp to DESCRIPTION
  installing R files
  installing inst files
  installing man source files
  installing indices
  installing help
 >>> Building/Updating help pages for package 'OLINgui'
     Formats: text html latex example chm 
  OLINgui                           text    html    latex           chm
Microsoft HTML Help Compiler 4.74.8702
Compiling d:\biocbld\bbs-1.9\meat\OLINgui.Rcheck\00_pkg_src\OLINgui\chm\OLINgui.chm
Compile time: 0 minutes, 0 seconds
2	Topics
2	Local links
3	Internet links
1	Graphic
Created d:\biocbld\bbs-1.9\meat\OLINgui.Rcheck\00_pkg_src\OLINgui\chm\OLINgui.chm, 17,722 bytes
Compression increased file by 8,683 bytes.
  preparing package OLINgui for lazy loading
Loading required package: OLIN
Loading required package: locfit
Loading required package: akima
Loading required package: lattice
Loading required package: Biobase
Loading required package: tools
Welcome to Bioconductor
    Vignettes contain introductory material. To view, type
    'openVignette()' or start with 'help(Biobase)'. For details
    on reading vignettes, see the openVignette help page.
Loading required package: marray
Loading required package: limma
  adding MD5 sums
* DONE (OLINgui)