Back to the "Multiple platform build/check report"
| Package 112/188 | Hostname | OS | Arch | BUILD | CHECK | BUILD BIN |
Mfuzz1.2.0Matthias FutschikLast Changed Date: 2006-10-03 12:16:03 -0700 Last Changed Rev: 20373 | lamb1 | Linux (SUSE 10.1) | x86_64 | OK | OK | |
| wellington | Linux (SUSE 9.2) | i686 | OK | OK | ||
| churchill | Solaris 2.9 | sparc | OK | OK | ||
| lemming | Windows Server 2003 | x86_64 | [ OK ] | OK | OK |
| Package: Mfuzz |
| Version: 1.2.0 |
| Command: D:\biocbld\bbs-1.9\R\bin\R.exe CMD build Mfuzz |
| RetCode: 0 |
| Time: 16.5 seconds |
| Status: OK |
| PackageFile: Mfuzz_1.2.0.tar.gz |
* checking for file 'Mfuzz/DESCRIPTION' ... OK
* preparing 'Mfuzz':
* checking DESCRIPTION meta-information ... OK
* checking whether 'INDEX' is up-to-date ... NO
* use '--force' to overwrite the existing 'INDEX'
* installing the package to re-build vignettes
installing R.css in D:/biocbld/bbs-1.9/tmpdir/Rinst100466629
---------- Making package Mfuzz ------------
adding build stamp to DESCRIPTION
installing NAMESPACE file and metadata
installing R files
installing inst files
installing data files
installing man source files
installing indices
not zipping data
installing help
>>> Building/Updating help pages for package 'Mfuzz'
Formats: text html latex example chm
acore text html latex example
cselection text html latex example
fill.NA text html latex example
filter.NA text html latex example
filter.std text html latex example
kmeans2 text html latex example
kmeans2.plot text html latex example
mfuzz text html latex example
mfuzz.plot text html latex example
mfuzzColorBar text html latex example chm
overlap text html latex example
overlap.plot text html latex example
partcoef text html latex example
randomise text html latex example
standardise text html latex example
standardise2 text html latex example chm
top.count text html latex example chm
yeast text html latex
Microsoft HTML Help Compiler 4.74.8702
Compiling d:\biocbld\bbs-1.9\meat\Mfuzz\chm\Mfuzz.chm
Compile time: 0 minutes, 0 seconds
19 Topics
36 Local links
17 Internet links
1 Graphic
Created d:\biocbld\bbs-1.9\meat\Mfuzz\chm\Mfuzz.chm, 37,244 bytes
Compression decreased file by 18,286 bytes.
adding MD5 sums
* DONE (Mfuzz)
* creating vignettes ... OK
* removing junk files
* checking for LF line-endings in source files
* checking for empty or unneeded directories
* building 'Mfuzz_1.2.0.tar.gz'