Back to the "Multiple platform build/check report"
| Package 113/188 | Hostname | OS | Arch | BUILD | CHECK | BUILD BIN | 
MLInterfaces1.8.1V. CareyLast Changed Date: 2006-11-23 05:42:04 -0800 Last Changed Rev: 21262  | lamb1 | Linux (SUSE 10.1) | x86_64 | OK | OK | |
| wellington | Linux (SUSE 9.2) | i686 | OK | [ OK ] | ||
| churchill | Solaris 2.9 | sparc | OK | ERROR | ||
| lemming | Windows Server 2003 | x86_64 | OK | OK | OK | 
| Package: MLInterfaces | 
| Version: 1.8.1 | 
| Command: /loc/biocbuild/bbs-1.9/R/bin/R CMD check MLInterfaces_1.8.1.tar.gz | 
| RetCode: 0 | 
| Time: 169.6 seconds | 
| Status: OK | 
| CheckDir: MLInterfaces.Rcheck | 
| Warnings: 0 | 
* checking for working latex ... OK * using log directory '/extra/loc/biocbuild/bbs-1.9/meat/MLInterfaces.Rcheck' * using R version 2.4.1 (2006-12-18) * checking for file 'MLInterfaces/DESCRIPTION' ... OK * this is package 'MLInterfaces' version '1.8.1' * checking package dependencies ... OK * checking if this is a source package ... OK * checking whether package 'MLInterfaces' can be installed ... OK * checking package directory ... OK * checking for portable file names ... OK * checking for sufficient/correct file permissions ... OK * checking DESCRIPTION meta-information ... OK * checking top-level files ... OK * checking index information ... OK * checking package subdirectories ... OK * checking R files for syntax errors ... OK * checking R files for non-ASCII characters ... OK * checking whether the package can be loaded ... OK * checking whether the package can be loaded with stated dependencies ... OK * checking S3 generic/method consistency ... OK * checking replacement functions ... OK * checking foreign function calls ... OK * checking R code for possible problems ... OK * checking Rd files ... OK * checking Rd cross-references ... OK * checking for missing documentation entries ... OK * checking for code/documentation mismatches ... OK * checking Rd \usage sections ... OK * creating MLInterfaces-Ex.R ... OK * checking examples ... OK * checking package vignettes in 'inst/doc' ... OK * creating MLInterfaces-manual.tex ... OK * checking MLInterfaces-manual.tex ... OK
MLInterfaces.Rcheck/00install.out:
* Installing *source* package 'MLInterfaces' ...
** R
** inst
** save image
Loading required package: Biobase
Loading required package: tools
Welcome to Bioconductor
    Vignettes contain introductory material. To view, type
    'openVignette()' or start with 'help(Biobase)'. For details
    on reading vignettes, see the openVignette help page.
Loading required package: genefilter
Loading required package: survival
Loading required package: splines
[1] "MLLabel"
[1] "predClass"
[1] "groupIndex"
[1] "MLScore"
[1] "probMat"
[1] "probArray"
[1] "membMat"
[1] "qualScore"
[1] "silhouetteVec"
[1] "MLOutput"
[1] "classifOutput"
[1] "clustOutput"
[1] "show"
[1] "show"
[1] "show"
[1] "show"
[1] "show"
[1] "RObject"
[1] "RObject"
[1] "distMat"
[1] "distMat"
[1] "show"
[1] "predLabels"
[1] "predLabels"
[1] "predLabels"
[1] "predLabels"
[1] "allClass"
[1] "allClass"
[1] "trainInds"
[1] "trainInds"
[1] "confuMat"
[1] "confuMat"
[1] "ldaB"
[1] "ldaB"
[1] "qdaB"
[1] "qdaB"
[1] "isoMDSB"
[1] "MLearn"
[1] "MLearn"
[1] "MLearn"
[1] "knnB"
[1] "knnB"
[1] "knn1B"
[1] "knn1B"
[1] "lvq1B"
[1] "lvq1B"
[1] "lvq2B"
[1] "lvq2B"
[1] "lvq3B"
[1] "lvq3B"
[1] "olvq1B"
[1] "olvq1B"
[1] "SOMB"
[1] "agnesB"
[1] "agnesB"
[1] "claraB"
[1] "claraB"
[1] "dianaB"
[1] "dianaB"
[1] "fannyB"
[1] "fannyB"
[1] "pamB"
[1] "pamB"
[1] "cvB"
[1] "cvB"
[1] "bclustB"
[1] "bclustB"
[1] "cmeansB"
[1] "cmeansB"
[1] "cshellB"
[1] "cshellB"
[1] "lcaB"
[1] "lcaB"
[1] "naiveBayesB"
[1] "naiveBayesB"
[1] "svmB"
[1] "svmB"
[1] "gbmB"
[1] "gbmB"
[1] "baggingB"
[1] "baggingB"
[1] "ipredknnB"
[1] "ipredknnB"
[1] "sldaB"
[1] "sldaB"
[1] "nnetB"
[1] "nnetB"
[1] "pamrB"
[1] "pamrB"
[1] "planarPlot"
[1] "planarPlot"
[1] "randomForestB"
[1] "randomForestB"
[1] "rpartB"
[1] "rpartB"
[1] "silhouetteB"
[1] "silhouetteB"
[1] "stat.diag.daB"
[1] "stat.diag.daB"
[1] "somout"
[1] "show"
[1] "somB"
[1] "somB"
[1] "SOMBout"
[1] "show"
[1] "SOMB"
[1] "hclustB"
[1] "hclustB"
[1] "hclustB"
[1] "hclustB"
[1] "kmeansB"
[1] "kmeansB"
[1] "varImpStruct"
[1] "getVarImp"
[1] "getVarImp"
[1] "show"
Creating a new generic function for "plot" in "MLInterfaces"
[1] "plot"
[1] "xval"
[1] "xval"
[1] "xval"
[1] "xvalLoop"
[1] "xvalLoop"
** help
 >>> Building/Updating help pages for package 'MLInterfaces'
     Formats: text html latex example 
  MLIclust                          text    html    latex   example
  MLIntInternals                    text    html    latex   example
  MLearn-methods                    text    html    latex
  SOMB                              text    html    latex   example
  classifOutput-class               text    html    latex   example
  confuMat-methods                  text    html    latex   example
  knnB                              text    html    latex   example
  planarPlot-methods                text    html    latex   example
  varImpStruct-class                text    html    latex   example
  xval-methods                      text    html    latex   example
  xvalLoop-methods                  text    html    latex
  xvalLoop                          text    html    latex   example
** building package indices ...
* DONE (MLInterfaces)