Back to the "Multiple platform build/check report"
| Package 80/188 | Hostname | OS | Arch | BUILD | CHECK | BUILD BIN |
Heatplus1.4.0Alexander PlonerLast Changed Date: 2006-10-03 12:16:03 -0700 Last Changed Rev: 20373 | lamb1 | Linux (SUSE 10.1) | x86_64 | OK | OK | |
| wellington | Linux (SUSE 9.2) | i686 | OK | OK | ||
| churchill | Solaris 2.9 | sparc | OK | OK | ||
| lemming | Windows Server 2003 | x86_64 | OK | OK | [ OK ] |
| Package: Heatplus |
| Version: 1.4.0 |
| Command: D:\biocbld\bbs-1.9\R\bin\R.exe CMD INSTALL --build --library=Heatplus.instdir Heatplus_1.4.0.tar.gz |
| RetCode: 0 |
| Time: 8.0 seconds |
| Status: OK |
| PackageFile: Heatplus_1.4.0.zip |
installing R.css in D:/biocbld/bbs-1.9/meat/Heatplus.instdir
Using auto-selected zip options ''
---------- Making package Heatplus ------------
adding build stamp to DESCRIPTION
installing R files
installing inst files
installing man source files
installing indices
installing help
>>> Building/Updating help pages for package 'Heatplus'
Formats: text html latex example chm
RGBColVec text html latex example chm
cutplot.dendrogram text html latex example chm
heatmap_2 text html latex example chm
heatmap_plus text html latex example chm
picketplot text html latex example chm
Microsoft HTML Help Compiler 4.74.8702
Compiling d:\biocbld\bbs-1.9\meat\R.INSTALL\Heatplus\chm\Heatplus.chm
Compile time: 0 minutes, 0 seconds
6 Topics
17 Local links
0 Internet links
1 Graphic
Created d:\biocbld\bbs-1.9\meat\R.INSTALL\Heatplus\chm\Heatplus.chm, 28,441 bytes
Compression decreased file by 2,464 bytes.
adding MD5 sums
packaged installation of package 'Heatplus' as Heatplus_1.4.0.zip
* DONE (Heatplus)