Back to the "Multiple platform build/check report"
| Package 70/188 | Hostname | OS | Arch | BUILD | CHECK | BUILD BIN | 
GGtools1.2.0stvjcLast Changed Date: 2006-10-03 12:16:03 -0700 Last Changed Rev: 20373  | lamb1 | Linux (SUSE 10.1) | x86_64 | OK | OK | |
| wellington | Linux (SUSE 9.2) | i686 | [ OK ] | OK | ||
| churchill | Solaris 2.9 | sparc | OK | OK | ||
| lemming | Windows Server 2003 | x86_64 | OK | ERROR | OK | 
| Package: GGtools | 
| Version: 1.2.0 | 
| Command: /loc/biocbuild/bbs-1.9/R/bin/R CMD build GGtools | 
| RetCode: 0 | 
| Time: 153.3 seconds | 
| Status: OK | 
| PackageFile: GGtools_1.2.0.tar.gz | 
* checking for file 'GGtools/DESCRIPTION' ... OK
* preparing 'GGtools':
* checking DESCRIPTION meta-information ... OK
* cleaning src
* installing the package to re-build vignettes
* Installing *source* package 'GGtools' ...
** libs
g++ -I/loc/biocbuild/bbs-1.9/R/include -I/loc/biocbuild/bbs-1.9/R/include  -I/usr/local/include    -fpic  -g -O2 -Wall -c minfra.cc -o minfra.o
minfra.cc: In function `matrix operator/(matrix&, matrix&)':
minfra.cc:459: warning: unused variable `int a2c'
minfra.cc: In function `matrix delete_col(matrix, int)':
minfra.cc:545: warning: unused variable `int ncop'
minfra.cc:545: warning: unused variable `int nresel'
minfra.cc:545: warning: unused variable `int skip'
minfra.cc:546: warning: unused variable `double*resbase'
minfra.cc:546: warning: unused variable `double*Xbase'
minfra.cc: In function `int split(matrix&, matrix&, matrix*)':
minfra.cc:1210: warning: unused variable `int j'
minfra.cc: In function `matrix* split(matrix&, matrix&)':
minfra.cc:1245: warning: unused variable `int j'
g++ -shared -L/usr/local/lib -o GGtools.so minfra.o   
** R
** data
**  moving datasets to lazyload DB
** inst
** help
 >>> Building/Updating help pages for package 'GGtools'
     Formats: text html latex example 
  HM2rac                            text    html    latex   example
  HMworkflow                        text    html    latex   example
  geneLocs                          text    html    latex   example
  genoStrings                       text    html    latex   example
  make_racExSet                     text    html    latex   example
  plot_EvG                          text    html    latex   example
  racExSet-class                    text    html    latex   example
  snpMeta-class                     text    html    latex   example
  snpScreen                         text    html    latex   example
  snps                              text    html    latex   example
** building package indices ...
* DONE (GGtools)
* creating vignettes ... OK
* cleaning src
* removing junk files
* checking for LF line-endings in source files
    file 'GGtools/src/minfra.cc' had CRLF line endings
* checking for empty or unneeded directories
* building 'GGtools_1.2.0.tar.gz'