Back to the "Multiple platform build/check report"
| Package 52/188 | Hostname | OS | Arch | BUILD | CHECK | BUILD BIN | 
EBImage1.6.1Oleg SklyarLast Changed Date: 2007-01-08 04:24:40 -0800 Last Changed Rev: 21860  | lamb1 | Linux (SUSE 10.1) | x86_64 | [ ERROR ] | skipped | |
| wellington | Linux (SUSE 9.2) | i686 | OK | OK | ||
| churchill | Solaris 2.9 | sparc | OK | OK | ||
| lemming | Windows Server 2003 | x86_64 | ERROR | skipped | skipped | 
| Package: EBImage | 
| Version: 1.6.1 | 
| Command: /home/biocbuild/bbs-1.9/R/bin/R CMD build EBImage | 
| RetCode: 1 | 
| Time: 2.5 seconds | 
| Status: ERROR | 
| PackageFile: None | 
* checking for file 'EBImage/DESCRIPTION' ... OK * preparing 'EBImage': * checking DESCRIPTION meta-information ... OK * cleaning src * installing the package to re-build vignettes * Installing *source* package 'EBImage' ... checking for Magick++-config... no configure: error: "Cannot find ImageMagick (Magick++)" ERROR: configuration failed for package 'EBImage' ** Removing '/tmp/Rinst2545124780/EBImage' ERROR Installation failed. Removing '/tmp/Rinst2545124780'