Back to the "Multiple platform build/check report"
| Package 32/188 | Hostname | OS | Arch | BUILD | CHECK | BUILD BIN |
BioMVCClass1.2.0Elizabeth WhalenLast Changed Date: 2006-10-03 12:16:03 -0700 Last Changed Rev: 20373 | lamb1 | Linux (SUSE 10.1) | x86_64 | OK | OK | |
| wellington | Linux (SUSE 9.2) | i686 | OK | OK | ||
| churchill | Solaris 2.9 | sparc | OK | OK | ||
| lemming | Windows Server 2003 | x86_64 | [ OK ] | OK | OK |
| Package: BioMVCClass |
| Version: 1.2.0 |
| Command: D:\biocbld\bbs-1.9\R\bin\R.exe CMD build BioMVCClass |
| RetCode: 0 |
| Time: 11.5 seconds |
| Status: OK |
| PackageFile: BioMVCClass_1.2.0.tar.gz |
* checking for file 'BioMVCClass/DESCRIPTION' ... OK
* preparing 'BioMVCClass':
* checking DESCRIPTION meta-information ... OK
* installing the package to re-build vignettes
installing R.css in D:/biocbld/bbs-1.9/tmpdir/Rinst477623486
---------- Making package BioMVCClass ------------
adding build stamp to DESCRIPTION
installing NAMESPACE file and metadata
installing R files
installing inst files
installing man source files
installing indices
installing help
>>> Building/Updating help pages for package 'BioMVCClass'
Formats: text html latex example chm
GSE-class text html latex example chm
exprModel-class text html latex example chm
graphModel-class text html latex example chm
graphView-class text html latex example chm
gseModel-class text html latex example chm
heatmapView-class text html latex example chm
Microsoft HTML Help Compiler 4.74.8702
Compiling d:\biocbld\bbs-1.9\meat\BioMVCClass\chm\BioMVCClass.chm
Compile time: 0 minutes, 0 seconds
7 Topics
48 Local links
0 Internet links
1 Graphic
Created d:\biocbld\bbs-1.9\meat\BioMVCClass\chm\BioMVCClass.chm, 21,440 bytes
Compression decreased file by 12,224 bytes.
adding MD5 sums
* DONE (BioMVCClass)
* creating vignettes ... OK
* removing junk files
* checking for LF line-endings in source files
* checking for empty or unneeded directories
* building 'BioMVCClass_1.2.0.tar.gz'