Back to the "Multiple platform build/check report"
| Package 16/188 | Hostname | OS | Arch | BUILD | CHECK | BUILD BIN |
AnnBuilder1.12.0J. ZhangLast Changed Date: 2006-10-03 12:16:03 -0700 Last Changed Rev: 20373 | lamb1 | Linux (SUSE 10.1) | x86_64 | OK | OK | |
| wellington | Linux (SUSE 9.2) | i686 | OK | OK | ||
| churchill | Solaris 2.9 | sparc | [ ERROR ] | skipped | ||
| lemming | Windows Server 2003 | x86_64 | OK | OK | OK |
| Package: AnnBuilder |
| Version: 1.12.0 |
| Command: /loc/biocbuild/bbs-1.9/R/bin/R CMD build AnnBuilder |
| RetCode: 1 |
| Time: 9.1 seconds |
| Status: ERROR |
| PackageFile: None |
* checking for file 'AnnBuilder/DESCRIPTION' ... OK
* preparing 'AnnBuilder':
* checking DESCRIPTION meta-information ... OK
* installing the package to re-build vignettes
* Installing *source* package 'AnnBuilder' ...
** R
** data
** inst
** save image
Loading required package: Biobase
Loading required package: tools
Welcome to Bioconductor
Vignettes contain introductory material. To view, type
'openVignette()' or start with 'help(Biobase)'. For details
on reading vignettes, see the openVignette help page.
Loading required package: XML
Loading required package: annotate
Loading required package: RSQLite
Loading required package: DBI
Error in dyn.load(x, as.logical(local), as.logical(now)) :
unable to load shared library '/loc/biocbuild/bbs-1.9/R/library/RSQLite/libs/RSQLite.so':
ld.so.1: R: fatal: relocation error: file /loc/biocbuild/bbs-1.9/R/library/RSQLite/libs/RSQLite.so: symbol fdatasync: referenced symbol not found
Error: package 'RSQLite' could not be loaded
Execution halted
ERROR: execution of package source for 'AnnBuilder' failed
** Removing '/tmp/Rinst1279542254/AnnBuilder'
ERROR
Installation failed.
Removing '/tmp/Rinst1279542254'