Back to the "Multiple platform build/check report"
| Package 88/172 | OS | Arch | BUILD | CHECK | BUILD BIN |
LPE1.6.0Nitin Jain | Linux (SUSE 9.2) | x86_64 | OK | OK | |
| Linux (SUSE 9.2) | i686 | OK | OK | ||
| Solaris 2.9 | sparc | OK | OK | ||
| Linux (SUSE 10.0) | x86_64 | OK | OK | ||
| Windows Server 2003 | x86_64 | OK | [ OK ] | OK |
| Package: LPE |
| Version: 1.6.0 |
| Command: D:\biocbld\1.8d\R\bin\R.exe CMD check LPE_1.6.0.tar.gz |
| RetCode: 0 |
| Time: 65.6 seconds |
| Status: OK |
| CheckDir: LPE.Rcheck |
| Warnings: 0 |
* checking for working latex ... OK * using log directory 'D:/biocbld/1.8d/Rpacks/LPE.Rcheck' * using Version 2.3.1 (2006-06-01) * checking for file 'LPE/DESCRIPTION' ... OK * this is package 'LPE' version '1.6.0' * checking package dependencies ... OK * checking if this is a source package ... OK * checking whether package 'LPE' can be installed ... OK * checking package directory ... OK * checking for portable file names ... OK * checking DESCRIPTION meta-information ... OK * checking top-level files ... OK * checking index information ... OK * checking package subdirectories ... OK * checking R files for syntax errors ... OK * checking R files for library.dynam ... OK * checking S3 generic/method consistency ... OK * checking replacement functions ... OK * checking foreign function calls ... OK * checking Rd files ... OK * checking for missing documentation entries ... OK * checking for code/documentation mismatches ... OK * checking Rd \usage sections ... OK * creating LPE-Ex.R ... OK * checking examples ... OK * checking package vignettes in 'inst/doc' ... OK * creating LPE-manual.tex ... OK * checking LPE-manual.tex ... OK
LPE.Rcheck/00install.out:
installing R.css in D:/biocbld/1.8d/Rpacks/LPE.Rcheck
---------- Making package LPE ------------
adding build stamp to DESCRIPTION
installing R files
installing inst files
installing data files
installing man source files
installing indices
not zipping data
installing help
>>> Building/Updating help pages for package 'LPE'
Formats: text html latex example chm
Ley text html latex chm
am.trans text html latex example chm
baseOlig.error text html latex example chm
baseOlig.error.step1 text html latex example chm
baseOlig.error.step2 text html latex example chm
fdr.adjust text html latex example chm
fixbounds.predict.smooth.spline text html latex example chm
iqr text html latex example chm
lowess.normalize text html latex example chm
lpe text html latex example chm
mt.rawp2adjp text html latex example chm
n.genes.adaptive.int text html latex example chm
permute text html latex example chm
preprocess text html latex example chm
quan.norm text html latex example chm
quartile.normalize text html latex example chm
resamp.adj text html latex example chm
Microsoft HTML Help Compiler 4.74.8702
Compiling d:\biocbld\1.8d\Rpacks\LPE.Rcheck\00_pkg_src\LPE\chm\LPE.chm
Compile time: 0 minutes, 0 seconds
18 Topics
46 Local links
2 Internet links
1 Graphic
Created d:\biocbld\1.8d\Rpacks\LPE.Rcheck\00_pkg_src\LPE\chm\LPE.chm, 41,455 bytes
Compression decreased file by 28,689 bytes.
preparing package LPE for lazy loading
adding MD5 sums
* DONE (LPE)