Package: highthroughputassays Version: 1.32.0 Command: /home/biocbuild/bbs-3.21-bioc/R/bin/R CMD build --keep-empty-dirs --no-resave-data highthroughputassays StartedAt: 2025-10-14 13:05:11 -0400 (Tue, 14 Oct 2025) EndedAt: 2025-10-14 13:05:40 -0400 (Tue, 14 Oct 2025) EllapsedTime: 29.0 seconds RetCode: 0 Status: OK PackageFile: highthroughputassays_1.32.0.tar.gz PackageFileSize: 514.6 KiB