Package: cytofWorkflow Version: 1.34.0 Command: /home/biocbuild/bbs-3.22-bioc/R/bin/R CMD build --keep-empty-dirs --no-resave-data cytofWorkflow StartedAt: 2025-11-04 13:04:57 -0500 (Tue, 04 Nov 2025) EndedAt: 2025-11-04 13:09:33 -0500 (Tue, 04 Nov 2025) EllapsedTime: 276.1 seconds RetCode: 0 Status: OK PackageFile: cytofWorkflow_1.34.0.tar.gz PackageFileSize: 6.576 MiB