Package: arrays Version: 1.34.0 Command: E:\biocbuild\bbs-3.21-bioc\R\bin\R.exe CMD INSTALL arrays StartedAt: 2025-07-25 13:01:28 -0400 (Fri, 25 Jul 2025) EndedAt: 2025-07-25 13:01:30 -0400 (Fri, 25 Jul 2025) EllapsedTime: 2.9 seconds RetCode: 0 Status: OK