Package: arrays Version: 1.34.0 Command: chmod a+r arrays -R && E:\biocbuild\bbs-3.21-bioc\R\bin\R.exe CMD build --keep-empty-dirs --no-resave-data arrays StartedAt: 2025-07-25 13:06:30 -0400 (Fri, 25 Jul 2025) EndedAt: 2025-07-25 13:06:59 -0400 (Fri, 25 Jul 2025) EllapsedTime: 29.1 seconds RetCode: 0 Status: OK PackageFile: arrays_1.34.0.tar.gz PackageFileSize: 9.64 MiB