Package: arrays Version: 1.34.0 Command: /Library/Frameworks/R.framework/Resources/bin/R CMD INSTALL arrays StartedAt: 2025-07-25 13:00:47 -0400 (Fri, 25 Jul 2025) EndedAt: 2025-07-25 13:00:57 -0400 (Fri, 25 Jul 2025) EllapsedTime: 9.8 seconds RetCode: 0 Status: OK