Package: TCGAWorkflow Version: 1.32.0 Command: /Library/Frameworks/R.framework/Resources/bin/R CMD INSTALL TCGAWorkflow StartedAt: 2025-07-25 13:02:53 -0400 (Fri, 25 Jul 2025) EndedAt: 2025-07-25 13:06:09 -0400 (Fri, 25 Jul 2025) EllapsedTime: 195.5 seconds RetCode: 0 Status: OK