Package: GeoMxWorkflows Version: 1.16.0 Command: /home/biocbuild/bbs-3.22-bioc/R/bin/R CMD INSTALL GeoMxWorkflows StartedAt: 2025-11-04 13:00:23 -0500 (Tue, 04 Nov 2025) EndedAt: 2025-11-04 13:00:39 -0500 (Tue, 04 Nov 2025) EllapsedTime: 16.5 seconds RetCode: 0 Status: OK