Package: GeoMxWorkflows Version: 1.16.0 Command: /home/biocbuild/bbs-3.22-bioc/R/bin/R CMD build --keep-empty-dirs --no-resave-data GeoMxWorkflows StartedAt: 2025-11-04 13:05:07 -0500 (Tue, 04 Nov 2025) EndedAt: 2025-11-04 13:43:35 -0500 (Tue, 04 Nov 2025) EllapsedTime: 2308.0 seconds RetCode: 0 Status: OK PackageFile: GeoMxWorkflows_1.16.0.tar.gz PackageFileSize: 22.76 MiB