Package: GeoMxWorkflows Version: 1.14.0 Command: /home/biocbuild/bbs-3.21-bioc/R/bin/R CMD build --keep-empty-dirs --no-resave-data GeoMxWorkflows StartedAt: 2025-07-25 13:04:28 -0400 (Fri, 25 Jul 2025) EndedAt: 2025-07-25 13:43:03 -0400 (Fri, 25 Jul 2025) EllapsedTime: 2315.0 seconds RetCode: 0 Status: OK PackageFile: GeoMxWorkflows_1.14.0.tar.gz PackageFileSize: 22.72 MiB