Package: ExpHunterSuite Version: 1.18.0 Command: /Library/Frameworks/R.framework/Resources/bin/R CMD build --keep-empty-dirs --no-resave-data ExpHunterSuite StartedAt: 2025-11-04 13:04:44 -0500 (Tue, 04 Nov 2025) EndedAt: 2025-11-04 13:08:34 -0500 (Tue, 04 Nov 2025) EllapsedTime: 230.5 seconds RetCode: 0 Status: OK PackageFile: ExpHunterSuite_1.18.0.tar.gz PackageFileSize: 4.112 MiB