Package: BiocMetaWorkflow Version: 1.30.0 Command: /Library/Frameworks/R.framework/Resources/bin/R CMD build --keep-empty-dirs --no-resave-data BiocMetaWorkflow StartedAt: 2025-04-22 13:03:41 -0400 (Tue, 22 Apr 2025) EndedAt: 2025-04-22 13:03:42 -0400 (Tue, 22 Apr 2025) EllapsedTime: 1.2 seconds RetCode: 1 Status: ERROR PackageFile: None PackageFileSize: NA