Package: BP4RNAseq Version: 1.20.0 Command: /home/biocbuild/bbs-3.22-bioc/R/bin/R CMD INSTALL BP4RNAseq StartedAt: 2025-11-04 13:00:23 -0500 (Tue, 04 Nov 2025) EndedAt: 2025-11-04 13:00:26 -0500 (Tue, 04 Nov 2025) EllapsedTime: 3.2 seconds RetCode: 0 Status: OK