Package: yeastExpData Version: 0.56.0 Command: /home/biocbuild/bbs-3.22-bioc/R/bin/R CMD INSTALL yeastExpData StartedAt: 2025-11-04 10:56:24 -0500 (Tue, 04 Nov 2025) EndedAt: 2025-11-04 10:56:30 -0500 (Tue, 04 Nov 2025) EllapsedTime: 5.3 seconds RetCode: 0 Status: OK