Package: yeastCC Version: 1.50.0 Command: /home/biocbuild/bbs-3.22-bioc/R/bin/R CMD INSTALL yeastCC StartedAt: 2025-11-04 10:56:23 -0500 (Tue, 04 Nov 2025) EndedAt: 2025-11-04 10:56:28 -0500 (Tue, 04 Nov 2025) EllapsedTime: 5.1 seconds RetCode: 0 Status: OK