Package: tofsimsData Version: 1.38.0 Command: /home/biocbuild/bbs-3.22-bioc/R/bin/R CMD check --install=check:tofsimsData.install-out.txt --library=/home/biocbuild/bbs-3.22-bioc/R/site-library --timings tofsimsData_1.38.0.tar.gz StartedAt: 2025-11-20 13:29:46 -0500 (Thu, 20 Nov 2025) EndedAt: 2025-11-20 13:30:05 -0500 (Thu, 20 Nov 2025) EllapsedTime: 19.0 seconds RetCode: 0 Status: WARNINGS CheckDir: tofsimsData.Rcheck Warnings: 1