Package: timecoursedata Version: 1.19.0 Command: /home/biocbuild/bbs-3.22-bioc/R/bin/R CMD check --install=check:timecoursedata.install-out.txt --library=/home/biocbuild/bbs-3.22-bioc/R/site-library --timings timecoursedata_1.19.0.tar.gz StartedAt: 2025-10-28 13:13:28 -0400 (Tue, 28 Oct 2025) EndedAt: 2025-10-28 13:16:41 -0400 (Tue, 28 Oct 2025) EllapsedTime: 193.2 seconds RetCode: 0 Status: OK CheckDir: timecoursedata.Rcheck Warnings: 0