Package: synapterdata Version: 1.46.0 Command: /home/biocbuild/bbs-3.21-bioc/R/bin/R CMD INSTALL synapterdata StartedAt: 2025-07-24 11:03:28 -0400 (Thu, 24 Jul 2025) EndedAt: 2025-07-24 11:04:06 -0400 (Thu, 24 Jul 2025) EllapsedTime: 38.1 seconds RetCode: 0 Status: OK