Package: spqnData Version: 1.22.0 Command: /home/biocbuild/bbs-3.22-bioc/R/bin/R CMD INSTALL spqnData StartedAt: 2025-10-30 11:01:32 -0400 (Thu, 30 Oct 2025) EndedAt: 2025-10-30 11:01:53 -0400 (Thu, 30 Oct 2025) EllapsedTime: 21.2 seconds RetCode: 0 Status: OK