Package: spqnData Version: 1.22.0 Command: /home/biocbuild/bbs-3.22-bioc/R/bin/R CMD build --keep-empty-dirs --no-resave-data spqnData StartedAt: 2025-10-30 11:55:05 -0400 (Thu, 30 Oct 2025) EndedAt: 2025-10-30 11:55:08 -0400 (Thu, 30 Oct 2025) EllapsedTime: 3.2 seconds RetCode: 0 Status: OK PackageFile: spqnData_1.22.0.tar.gz PackageFileSize: 10.17 MiB