Package: spatialDmelxsim Version: 1.14.0 Command: /home/biocbuild/bbs-3.21-bioc/R/bin/R CMD build --keep-empty-dirs --no-resave-data spatialDmelxsim StartedAt: 2025-07-24 11:40:09 -0400 (Thu, 24 Jul 2025) EndedAt: 2025-07-24 11:40:56 -0400 (Thu, 24 Jul 2025) EllapsedTime: 47.8 seconds RetCode: 0 Status: OK PackageFile: spatialDmelxsim_1.14.0.tar.gz PackageFileSize: 890.7 KiB