Package: scpdata Version: 1.17.1 Command: /home/biocbuild/bbs-3.22-bioc/R/bin/R CMD check --install=check:scpdata.install-out.txt --library=/home/biocbuild/bbs-3.22-bioc/R/site-library --timings scpdata_1.17.1.tar.gz StartedAt: 2025-10-28 13:01:47 -0400 (Tue, 28 Oct 2025) EndedAt: 2025-10-28 13:13:34 -0400 (Tue, 28 Oct 2025) EllapsedTime: 706.8 seconds RetCode: 0 Status: OK CheckDir: scpdata.Rcheck Warnings: 0