Package: scanMiRData Version: 1.16.0 Command: /home/biocbuild/bbs-3.22-bioc/R/bin/R CMD INSTALL scanMiRData StartedAt: 2025-11-04 10:58:06 -0500 (Tue, 04 Nov 2025) EndedAt: 2025-11-04 10:58:23 -0500 (Tue, 04 Nov 2025) EllapsedTime: 16.1 seconds RetCode: 0 Status: OK