Package: scRNAseq Version: 2.24.0 Command: /home/biocbuild/bbs-3.22-bioc/R/bin/R CMD build --keep-empty-dirs --no-resave-data scRNAseq StartedAt: 2025-10-30 11:52:14 -0400 (Thu, 30 Oct 2025) EndedAt: 2025-10-30 11:53:45 -0400 (Thu, 30 Oct 2025) EllapsedTime: 90.3 seconds RetCode: 0 Status: OK PackageFile: scRNAseq_2.24.0.tar.gz PackageFileSize: 304.3 KiB