Package: scMultiome Version: 1.10.0 Command: /home/biocbuild/bbs-3.22-bioc/R/bin/R CMD check --install=check:scMultiome.install-out.txt --library=/home/biocbuild/bbs-3.22-bioc/R/site-library --timings scMultiome_1.10.0.tar.gz StartedAt: 2025-11-04 12:55:37 -0500 (Tue, 04 Nov 2025) EndedAt: 2025-11-04 13:00:04 -0500 (Tue, 04 Nov 2025) EllapsedTime: 267.0 seconds RetCode: 0 Status: OK CheckDir: scMultiome.Rcheck Warnings: 0