Package: scATAC.Explorer Version: 1.16.0 Command: /home/biocbuild/bbs-3.22-bioc/R/bin/R CMD build --keep-empty-dirs --no-resave-data scATAC.Explorer StartedAt: 2025-11-04 11:41:43 -0500 (Tue, 04 Nov 2025) EndedAt: 2025-11-04 11:42:25 -0500 (Tue, 04 Nov 2025) EllapsedTime: 41.8 seconds RetCode: 0 Status: OK PackageFile: scATAC.Explorer_1.16.0.tar.gz PackageFileSize: 247.8 KiB