Package: rheumaticConditionWOLLBOLD Version: 1.48.0 Command: /home/biocbuild/bbs-3.22-bioc/R/bin/R CMD check --install=check:rheumaticConditionWOLLBOLD.install-out.txt --library=/home/biocbuild/bbs-3.22-bioc/R/site-library --timings rheumaticConditionWOLLBOLD_1.48.0.tar.gz StartedAt: 2025-11-20 13:08:56 -0500 (Thu, 20 Nov 2025) EndedAt: 2025-11-20 13:09:20 -0500 (Thu, 20 Nov 2025) EllapsedTime: 23.7 seconds RetCode: 0 Status: OK CheckDir: rheumaticConditionWOLLBOLD.Rcheck Warnings: 0