Package: rheumaticConditionWOLLBOLD Version: 1.48.0 Command: /home/biocbuild/bbs-3.22-bioc/R/bin/R CMD build --keep-empty-dirs --no-resave-data rheumaticConditionWOLLBOLD StartedAt: 2025-11-20 11:41:07 -0500 (Thu, 20 Nov 2025) EndedAt: 2025-11-20 11:41:09 -0500 (Thu, 20 Nov 2025) EllapsedTime: 2.0 seconds RetCode: 0 Status: OK PackageFile: rheumaticConditionWOLLBOLD_1.48.0.tar.gz PackageFileSize: 20.76 MiB