Package: pumadata Version: 2.45.0 Command: /home/biocbuild/bbs-3.22-bioc/R/bin/R CMD check --install=check:pumadata.install-out.txt --library=/home/biocbuild/bbs-3.22-bioc/R/site-library --timings pumadata_2.45.0.tar.gz StartedAt: 2025-10-28 12:52:23 -0400 (Tue, 28 Oct 2025) EndedAt: 2025-10-28 12:55:50 -0400 (Tue, 28 Oct 2025) EllapsedTime: 206.5 seconds RetCode: 0 Status: OK CheckDir: pumadata.Rcheck Warnings: 0