Package: pumadata Version: 2.46.0 Command: /home/biocbuild/bbs-3.22-bioc/R/bin/R CMD build --keep-empty-dirs --no-resave-data pumadata StartedAt: 2025-10-30 11:46:51 -0400 (Thu, 30 Oct 2025) EndedAt: 2025-10-30 11:47:45 -0400 (Thu, 30 Oct 2025) EllapsedTime: 53.8 seconds RetCode: 0 Status: OK PackageFile: pumadata_2.46.0.tar.gz PackageFileSize: 101.7 MiB