Package: preciseTADhub Version: 1.18.0 Command: /home/biocbuild/bbs-3.22-bioc/R/bin/R CMD INSTALL preciseTADhub StartedAt: 2025-10-30 10:57:56 -0400 (Thu, 30 Oct 2025) EndedAt: 2025-10-30 10:58:19 -0400 (Thu, 30 Oct 2025) EllapsedTime: 22.5 seconds RetCode: 0 Status: OK